BEGIN:VCALENDAR
VERSION:2.0
PRODID:-//Plone.org//NONSGML plone.app.event//EN
X-WR-TIMEZONE:America/Sao_Paulo
BEGIN:VEVENT
SUMMARY:Apresentação dos Programas e Eventos da DRI/UFMG - Comunidade do
  Noturno em [ Auditorio A104 do Cad 2]
DTSTART;TZID=America/Sao_Paulo;VALUE=DATE-TIME:20250317T173000
DTEND;TZID=America/Sao_Paulo;VALUE=DATE-TIME:20250317T200000
DTSTAMP;VALUE=DATE-TIME:20260419T120040Z
UID:1d51b314b8b3412295852b6b3a2a2b66@150.164.76.86:8080
CREATED;VALUE=DATE-TIME:20250224T213222Z
DESCRIPTION:Apresentação dos programas de mobilidade e eventos da DRI pa
 ra a comunidade discente de graduação\, sobretudo os estudantes do perí
 odo noturno\, \nmas aberto a toda a Comunidade discente de UFMG.
LAST-MODIFIED;VALUE=DATE-TIME:20250226T145552Z
URL:http://150.164.76.86:8080/cac/agenda/4591322412604933759
END:VEVENT
BEGIN:VTIMEZONE
TZID:America/Sao_Paulo
X-LIC-LOCATION:America/Sao_Paulo
BEGIN:STANDARD
DTSTART;VALUE=DATE-TIME:20250215T230000
TZNAME:BRT
TZOFFSETFROM:-0200
TZOFFSETTO:-0300
END:STANDARD
END:VTIMEZONE
END:VCALENDAR
