BEGIN:VCALENDAR
VERSION:2.0
PRODID:-//Plone.org//NONSGML plone.app.event//EN
X-WR-TIMEZONE:America/Sao_Paulo
BEGIN:VEVENT
SUMMARY:Feira de Artesanato da Assufemg em [ Entorno da Praca de Servicos]
DTSTART;TZID=America/Sao_Paulo;VALUE=DATE-TIME:20250331T080000
DTEND;TZID=America/Sao_Paulo;VALUE=DATE-TIME:20250404T170000
DTSTAMP;VALUE=DATE-TIME:20260419T091108Z
UID:33c52561e0e34e4c856a46441f505fa6@150.164.76.86:8080
CREATED;VALUE=DATE-TIME:20241011T154208Z
DESCRIPTION:Solicitamos o empréstimo de 80 painéis para a Feira de Artes
 anato. \nAgradecemos\,
LAST-MODIFIED;VALUE=DATE-TIME:20241014T124933Z
URL:http://150.164.76.86:8080/cac/agenda/4584643682659505685
END:VEVENT
BEGIN:VTIMEZONE
TZID:America/Sao_Paulo
X-LIC-LOCATION:America/Sao_Paulo
BEGIN:STANDARD
DTSTART;VALUE=DATE-TIME:20250215T230000
TZNAME:BRT
TZOFFSETFROM:-0200
TZOFFSETTO:-0300
END:STANDARD
END:VTIMEZONE
END:VCALENDAR
