BEGIN:VCALENDAR
VERSION:2.0
PRODID:-//Plone.org//NONSGML plone.app.event//EN
X-WR-TIMEZONE:America/Sao_Paulo
BEGIN:VEVENT
SUMMARY:Projeto Leste Asiático da Associação Asiática da UFMG em [ Are
 na da praça de serviços Entorno da Praca de Servicos]
DTSTART;TZID=America/Sao_Paulo;VALUE=DATE-TIME:20230929T090000
DTEND;TZID=America/Sao_Paulo;VALUE=DATE-TIME:20230929T210000
DTSTAMP;VALUE=DATE-TIME:20260421T062228Z
UID:12c9b1f7324545fbac7ddae80b5efc09@150.164.76.86:8080
CREATED;VALUE=DATE-TIME:20230605T174926Z
DESCRIPTION:<p>Trata-se de evento realizado por estudantes no âmbito da C
 hamada PRAE\, edição 2023. Consiste na realização de festival sobre a 
 cultura do Leste-Asiático\, com o objetivo de promover a aproximação é
 tnico-cultural da comunidade amarela com a UFMG. Na programação está pr
 evista a realização de: Atividades culturais (apresentações de taiko-t
 ambor japonês\, dança e canto\, oficinas de pintura\, caligrafia e origa
 mi\, artes marciais)\; Feira de Comidas e Artes\; Roda de conversa (vivên
 cias asiático-brasileiras/acolhimento e feminismo asiático)</p>
LAST-MODIFIED;VALUE=DATE-TIME:20230714T151357Z
URL:http://150.164.76.86:8080/cac/agenda/457844948126360123
END:VEVENT
BEGIN:VTIMEZONE
TZID:America/Sao_Paulo
X-LIC-LOCATION:America/Sao_Paulo
BEGIN:STANDARD
DTSTART;VALUE=DATE-TIME:20230225T230000
TZNAME:BRT
TZOFFSETFROM:-0200
TZOFFSETTO:-0300
END:STANDARD
END:VTIMEZONE
END:VCALENDAR
