BEGIN:VCALENDAR
VERSION:2.0
PRODID:-//Plone.org//NONSGML plone.app.event//EN
X-WR-TIMEZONE:America/Sao_Paulo
BEGIN:VEVENT
SUMMARY:FERIADO E RECESSO CORPUS CHRISTI em [ Auditorio da Reitoria Saguao
  da Reitoria Gramado da Reitoria Arena da praça de serviços Entorno da P
 raca de Servicos Auditorio Nobre do CAD 1 Auditorio 1A do CAD 1 Auditorio 
 2A do CAD 1 Auditorio A102 do Cad 2 Auditorio A104 do Cad 2 Auditório B10
 1/102 do CAD 3 Auditório B106 do CAD3 Auditório B107 do CAD3 Auditório 
 B301 do CAD 3 Auditório B302 do CAD 3 Auditório B306 do CAD3 Outros espa
 cos]
DTSTART;TZID=America/Sao_Paulo;VALUE=DATE-TIME:20240530T060000
DTEND;TZID=America/Sao_Paulo;VALUE=DATE-TIME:20240531T220000
DTSTAMP;VALUE=DATE-TIME:20260420T042056Z
UID:0c80f0b3ea254fc3914971c7d206df0b@150.164.76.86:8080
CREATED;VALUE=DATE-TIME:20231106T141057Z
DESCRIPTION:<p>FERIADO E RECESSO CORPUS CHRISTI</p>
LAST-MODIFIED;VALUE=DATE-TIME:20231106T141125Z
URL:http://150.164.76.86:8080/cac/agenda/4569542577365432528
END:VEVENT
BEGIN:VTIMEZONE
TZID:America/Sao_Paulo
X-LIC-LOCATION:America/Sao_Paulo
BEGIN:STANDARD
DTSTART;VALUE=DATE-TIME:20240217T230000
TZNAME:BRT
TZOFFSETFROM:-0200
TZOFFSETTO:-0300
END:STANDARD
END:VTIMEZONE
END:VCALENDAR
