BEGIN:VCALENDAR
VERSION:2.0
PRODID:-//Plone.org//NONSGML plone.app.event//EN
X-WR-TIMEZONE:America/Sao_Paulo
BEGIN:VEVENT
SUMMARY:DRCA - REGISTRO ACADEMICO - 2º Semestre/2020 em [ Auditorio A102 
 do Cad 2 Auditorio A104 do Cad 2]
DTSTART;TZID=America/Sao_Paulo;VALUE=DATE-TIME:20200718T070000
DTEND;TZID=America/Sao_Paulo;VALUE=DATE-TIME:20200814T220000
DTSTAMP;VALUE=DATE-TIME:20260424T195152Z
UID:7adf72c26a294057a495e3183c4c83c6@150.164.76.86:8080
CREATED;VALUE=DATE-TIME:20191219T183709Z
DESCRIPTION:<p><span>PRÉ-RESERVA - período e programação a confirmar</
 span></p>
LAST-MODIFIED;VALUE=DATE-TIME:20191219T183935Z
URL:http://150.164.76.86:8080/cac/agenda/4568431721395670768
END:VEVENT
BEGIN:VTIMEZONE
TZID:America/Sao_Paulo
X-LIC-LOCATION:America/Sao_Paulo
BEGIN:STANDARD
DTSTART;VALUE=DATE-TIME:20200215T230000
TZNAME:BRT
TZOFFSETFROM:-0200
TZOFFSETTO:-0300
END:STANDARD
END:VTIMEZONE
END:VCALENDAR
