BEGIN:VCALENDAR
VERSION:2.0
PRODID:-//Plone.org//NONSGML plone.app.event//EN
X-WR-TIMEZONE:America/Sao_Paulo
BEGIN:VEVENT
SUMMARY:Plataformas e plataformização em [ Auditorio A102 do Cad 2]
DTSTART;TZID=America/Sao_Paulo;VALUE=DATE-TIME:20230412T080000
DTEND;TZID=America/Sao_Paulo;VALUE=DATE-TIME:20230412T120000
DTSTAMP;VALUE=DATE-TIME:20260421T145855Z
UID:eb58efec7ee3452fb56cb97b03d8ead7@150.164.76.86:8080
CREATED;VALUE=DATE-TIME:20230403T181456Z
DESCRIPTION:<p>Palestra do professor André Mintz e do pesquisador sediado
  na Inglaterra Abel Guerra sobre plataformas\, plataformização e intelig
 ência artificial. O evento é aberto ao público e reúne as duas turmas 
 da disciplina Processos de Criação em Mídias Digitais\, do curso de Com
 unicação Social\, ministradas pelos professores Carlos d´Andréa e Joan
 a Ziller. Para o evento\, será necessário o uso de datashow e microfone.
 </p>
LAST-MODIFIED;VALUE=DATE-TIME:20230405T130155Z
URL:http://150.164.76.86:8080/cac/agenda/4556029255313898066
END:VEVENT
BEGIN:VTIMEZONE
TZID:America/Sao_Paulo
X-LIC-LOCATION:America/Sao_Paulo
BEGIN:STANDARD
DTSTART;VALUE=DATE-TIME:20230225T230000
TZNAME:BRT
TZOFFSETFROM:-0200
TZOFFSETTO:-0300
END:STANDARD
END:VTIMEZONE
END:VCALENDAR
