BEGIN:VCALENDAR
VERSION:2.0
PRODID:-//Plone.org//NONSGML plone.app.event//EN
X-WR-TIMEZONE:America/Sao_Paulo
BEGIN:VEVENT
SUMMARY:Encontro de Orientação para estudantes que realizarão mobilidad
 e em 2024 em [ Auditorio A104 do Cad 2]
DTSTART;TZID=America/Sao_Paulo;VALUE=DATE-TIME:20230904T113000
DTEND;TZID=America/Sao_Paulo;VALUE=DATE-TIME:20230905T193000
DTSTAMP;VALUE=DATE-TIME:20260421T080242Z
UID:5a606aa033344325bf13adf53d166a07@150.164.76.86:8080
CREATED;VALUE=DATE-TIME:20230828T160909Z
DESCRIPTION:O evento consiste no Encontro de Orientação\, realizado pelo
  Setor de Mobilidade da Diretoria de Relações Internacionais\, com aluno
 s da UFMG que realizarão mobilidade no âmbito do Edital Unificado 06/202
 3 em 2024.  O objetivo é explicar o processo de intercâmbio\, oferecer u
 m panorama da documentação e retirar dúvidas. O número de estudantes e
 sperado é de 100 em cada um dos dias. Reserva do espaço para dois dias: 
 segunda-feira\, 04/09\, das 12h às 14h\, e terça-feira 05/09\, das 17h a
 té 19h. Equipamentos necessários: 01 microfone de mão c/ fio\, 01 micro
 fone de mesa\, 01 notebook com acesso à internet e conectado ao sistema m
 ultimídia. Evento deverá ser gravado SOMENTE NA TERÇA-FEIRA para dispon
 ibilização aos estudantes.
LAST-MODIFIED;VALUE=DATE-TIME:20230828T180221Z
URL:http://150.164.76.86:8080/cac/agenda/4553940705577144285
END:VEVENT
BEGIN:VTIMEZONE
TZID:America/Sao_Paulo
X-LIC-LOCATION:America/Sao_Paulo
BEGIN:STANDARD
DTSTART;VALUE=DATE-TIME:20230225T230000
TZNAME:BRT
TZOFFSETFROM:-0200
TZOFFSETTO:-0300
END:STANDARD
END:VTIMEZONE
END:VCALENDAR
