BEGIN:VCALENDAR
VERSION:2.0
PRODID:-//Plone.org//NONSGML plone.app.event//EN
X-WR-TIMEZONE:America/Sao_Paulo
BEGIN:VEVENT
SUMMARY:FEIRA DA UFMG - Agroecologia e Economia Popular Solidária em [ En
 torno da Praca de Servicos]
DTSTART;TZID=America/Sao_Paulo;VALUE=DATE-TIME:20240731T070000
DTEND;TZID=America/Sao_Paulo;VALUE=DATE-TIME:20240731T180000
DTSTAMP;VALUE=DATE-TIME:20260419T234926Z
UID:7a5de69671904c63a0a41b8a79f2e9db@150.164.76.86:8080
CREATED;VALUE=DATE-TIME:20240612T190118Z
DESCRIPTION:Não usaremos nenhum equipamento ou serviço adicional.\nA pro
 gramação ainda está sendo elaborada.
LAST-MODIFIED;VALUE=DATE-TIME:20240613T142549Z
URL:http://150.164.76.86:8080/cac/agenda/4539272122358577806
END:VEVENT
BEGIN:VTIMEZONE
TZID:America/Sao_Paulo
X-LIC-LOCATION:America/Sao_Paulo
BEGIN:STANDARD
DTSTART;VALUE=DATE-TIME:20240217T230000
TZNAME:BRT
TZOFFSETFROM:-0200
TZOFFSETTO:-0300
END:STANDARD
END:VTIMEZONE
END:VCALENDAR
