BEGIN:VCALENDAR
VERSION:2.0
PRODID:-//Plone.org//NONSGML plone.app.event//EN
X-WR-TIMEZONE:America/Sao_Paulo
BEGIN:VEVENT
SUMMARY:Quarta Doze e Trinta em [ Outros espacos]
DTSTART;TZID=America/Sao_Paulo;VALUE=DATE-TIME:20220413T113000
DTEND;TZID=America/Sao_Paulo;VALUE=DATE-TIME:20220413T140000
DTSTAMP;VALUE=DATE-TIME:20260422T094328Z
UID:51a6e6a276f8425394695a942aae5b88@150.164.76.86:8080
CREATED;VALUE=DATE-TIME:20220407T160328Z
DESCRIPTION:<p>Show com Kainná Tawá</p>
LAST-MODIFIED;VALUE=DATE-TIME:20220407T160450Z
URL:http://150.164.76.86:8080/cac/agenda/4525718116964917691
END:VEVENT
BEGIN:VTIMEZONE
TZID:America/Sao_Paulo
X-LIC-LOCATION:America/Sao_Paulo
BEGIN:STANDARD
DTSTART;VALUE=DATE-TIME:20220219T230000
TZNAME:BRT
TZOFFSETFROM:-0200
TZOFFSETTO:-0300
END:STANDARD
END:VTIMEZONE
END:VCALENDAR
