BEGIN:VCALENDAR
VERSION:2.0
PRODID:-//Plone.org//NONSGML plone.app.event//EN
X-WR-TIMEZONE:America/Sao_Paulo
BEGIN:VEVENT
SUMMARY:Colação de Grau dos Cursos de Museologia\, Arquivologia e Biblio
 teconomia em [ Auditorio Nobre do CAD 1]
DTSTART;TZID=America/Sao_Paulo;VALUE=DATE-TIME:20220408T140000
DTEND;TZID=America/Sao_Paulo;VALUE=DATE-TIME:20220408T160000
DTSTAMP;VALUE=DATE-TIME:20260422T081435Z
UID:705593600c5a4c9480097dce2e328f81@150.164.76.86:8080
CREATED;VALUE=DATE-TIME:20220126T144823Z
DESCRIPTION:<p>Coleção de grau das graduações da Escola de Ciência da
  Informação.</p>
LAST-MODIFIED;VALUE=DATE-TIME:20220225T204914Z
URL:http://150.164.76.86:8080/cac/agenda/452204588212961833
END:VEVENT
BEGIN:VTIMEZONE
TZID:America/Sao_Paulo
X-LIC-LOCATION:America/Sao_Paulo
BEGIN:STANDARD
DTSTART;VALUE=DATE-TIME:20220219T230000
TZNAME:BRT
TZOFFSETFROM:-0200
TZOFFSETTO:-0300
END:STANDARD
END:VTIMEZONE
END:VCALENDAR
