BEGIN:VCALENDAR
VERSION:2.0
PRODID:-//Plone.org//NONSGML plone.app.event//EN
X-WR-TIMEZONE:America/Sao_Paulo
BEGIN:VEVENT
SUMMARY:Encontro Nacional Sobre Leveduras em [ Auditório B107 do CAD3 Aud
 itório B101/102 do CAD 3 (102 s/ ar condic)]
DTSTART;TZID=America/Sao_Paulo;VALUE=DATE-TIME:20250526T080000
DTEND;TZID=America/Sao_Paulo;VALUE=DATE-TIME:20250527T180000
DTSTAMP;VALUE=DATE-TIME:20260419T090922Z
UID:6fe4d12e41604d1ea759dac0dd493255@150.164.76.86:8080
CREATED;VALUE=DATE-TIME:20241119T142606Z
DESCRIPTION:<p>Cinco microfones Mesa com cinco cadeiras Programação aind
 a está em elaboração.</p>
LAST-MODIFIED;VALUE=DATE-TIME:20250512T183732Z
URL:http://150.164.76.86:8080/cac/agenda/451605726373471820
END:VEVENT
BEGIN:VTIMEZONE
TZID:America/Sao_Paulo
X-LIC-LOCATION:America/Sao_Paulo
BEGIN:STANDARD
DTSTART;VALUE=DATE-TIME:20250215T230000
TZNAME:BRT
TZOFFSETFROM:-0200
TZOFFSETTO:-0300
END:STANDARD
END:VTIMEZONE
END:VCALENDAR
