BEGIN:VCALENDAR
VERSION:2.0
PRODID:-//Plone.org//NONSGML plone.app.event//EN
X-WR-TIMEZONE:America/Sao_Paulo
BEGIN:VEVENT
SUMMARY:Democracia\, coesão social e cidadania: desafios da integração 
 no MERCOSUL e na União Europeia em [ Outros espacos]
DTSTART;TZID=America/Sao_Paulo;VALUE=DATE-TIME:20230927T090000
DTEND;TZID=America/Sao_Paulo;VALUE=DATE-TIME:20230927T110000
DTSTAMP;VALUE=DATE-TIME:20260421T050008Z
UID:9892d0b08ba1410fb89253436ef3790f@150.164.76.86:8080
CREATED;VALUE=DATE-TIME:20230919T210125Z
DESCRIPTION:<p align="justify" class="western"><span><span><span><b>Democr
 acia\, coesão social e cidadania: desafios da integração no MERCOSUL e 
 na União Europeia</b></span></span></span></p>
LAST-MODIFIED;VALUE=DATE-TIME:20230926T181125Z
URL:http://150.164.76.86:8080/cac/agenda/4508241880761468603
END:VEVENT
BEGIN:VTIMEZONE
TZID:America/Sao_Paulo
X-LIC-LOCATION:America/Sao_Paulo
BEGIN:STANDARD
DTSTART;VALUE=DATE-TIME:20230225T230000
TZNAME:BRT
TZOFFSETFROM:-0200
TZOFFSETTO:-0300
END:STANDARD
END:VTIMEZONE
END:VCALENDAR
