BEGIN:VCALENDAR
VERSION:2.0
PRODID:-//Plone.org//NONSGML plone.app.event//EN
X-WR-TIMEZONE:America/Sao_Paulo
BEGIN:VEVENT
SUMMARY:Palestra - Grupo Galpão em [ Auditório B101/102 do CAD 3]
DTSTART;TZID=America/Sao_Paulo;VALUE=DATE-TIME:20241105T080000
DTEND;TZID=America/Sao_Paulo;VALUE=DATE-TIME:20241105T220000
DTSTAMP;VALUE=DATE-TIME:20260419T175601Z
UID:1dc811732b5f47628f26000a5da48321@150.164.76.86:8080
CREATED;VALUE=DATE-TIME:20240613T004504Z
DESCRIPTION:<p>Palestra do Grupo Galpão\, intitulada "Processos criativos
 "\, para professores e estudantes das licenciaturas\, no âmbito do Projet
 o de extensão CP-Cultural.</p>
LAST-MODIFIED;VALUE=DATE-TIME:20240617T192013Z
URL:http://150.164.76.86:8080/cac/agenda/4490606433722769213
END:VEVENT
BEGIN:VTIMEZONE
TZID:America/Sao_Paulo
X-LIC-LOCATION:America/Sao_Paulo
BEGIN:DAYLIGHT
DTSTART;VALUE=DATE-TIME:20241020T010000
TZNAME:BRST
TZOFFSETFROM:-0300
TZOFFSETTO:-0200
END:DAYLIGHT
END:VTIMEZONE
END:VCALENDAR
