BEGIN:VCALENDAR
VERSION:2.0
PRODID:-//Plone.org//NONSGML plone.app.event//EN
X-WR-TIMEZONE:America/Sao_Paulo
BEGIN:VEVENT
SUMMARY:I Simpósio em Psicologia\, Redes e Educação (SEMPRE) em [ Audit
 orio A102 do Cad 2]
DTSTART;TZID=America/Sao_Paulo;VALUE=DATE-TIME:20250402T080000
DTEND;TZID=America/Sao_Paulo;VALUE=DATE-TIME:20250405T140000
DTSTAMP;VALUE=DATE-TIME:20260419T090923Z
UID:1d0a399b11de4d82a6d66c706ad6f970@150.164.76.86:8080
CREATED;VALUE=DATE-TIME:20250207T041445Z
DESCRIPTION:<p>O evento é promovido pelo LIEPPE-MG (Laboratório Interins
 titucional de Estudos e Pesquisas em Psicologia Escolar de Minas Gerais)\,
  e também vai comemorar os 10 anos do projeto de extensão em Orientaçã
 o às Queixas Escolares O.Q.E - UFMG.</p>
LAST-MODIFIED;VALUE=DATE-TIME:20250317T131647Z
URL:http://150.164.76.86:8080/cac/agenda/4490264046005442722
END:VEVENT
BEGIN:VTIMEZONE
TZID:America/Sao_Paulo
X-LIC-LOCATION:America/Sao_Paulo
BEGIN:STANDARD
DTSTART;VALUE=DATE-TIME:20250215T230000
TZNAME:BRT
TZOFFSETFROM:-0200
TZOFFSETTO:-0300
END:STANDARD
END:VTIMEZONE
END:VCALENDAR
