BEGIN:VCALENDAR
VERSION:2.0
PRODID:-//Plone.org//NONSGML plone.app.event//EN
X-WR-TIMEZONE:America/Sao_Paulo
BEGIN:VEVENT
SUMMARY:34º Encontro Regional da Sociedade Brasileira de Química em [ Ou
 tros espacos Auditorio Nobre do CAD 1 Auditorio 1A do CAD 1 Auditorio 2A d
 o CAD 1]
DTSTART;TZID=America/Sao_Paulo;VALUE=DATE-TIME:20221209T120000
DTEND;TZID=America/Sao_Paulo;VALUE=DATE-TIME:20221211T210000
DTSTAMP;VALUE=DATE-TIME:20260421T205045Z
UID:08cc9e0945804455bd886e8be8b95b97@150.164.76.86:8080
CREATED;VALUE=DATE-TIME:20220819T155600Z
DESCRIPTION:<p>Tradicionalmente a programação do evento contem as seguin
 tes atividades: Sexta-feira 14h- Workshop (público estimado: 100) 1 audit
 ório 19h - Conferencia de abertura (público estimado: 400) Auditorio 20h
  - Coquetel (lobby do cad) Sábado e Domingo 8h - 6 a 8 minicursos simult
 âneos ( público máximo: 50 cada) sala de aula 11h - 3 simpósios simult
 aneos (auditórios) público: 100-150 13:30h - Sessoes coordenadas (6 sala
 s - público máximo 50 cada) 16:30h - Mesa redonda (100 pessoas) 18h - se
 ssão de poster (espaço aberto - 500 pessoas) 19h - Premiação e encerra
 mento (auditório).</p>\n<p>OBS: Em conversa ocorrida no dia 01/09/2022\, 
 entre a Coordenadora da CAC e a organizadora do evento\, definiu-se que: o
  Workshop da sexta-feira (09/12)\, às 14hs\, ocorrerá no auditório 1A d
 o CAD1. A conferência de abertura\, no dia 09/12\, às 19hs\, ocorrerá n
 o auditório Nobre do CAD1. As demais atividades do sábado e do domingo o
 correrão nas salas de aula. O encerramento\, no dia 11/12\, às 19hs\, no
  auditório 1A do CAD1.</p>
LAST-MODIFIED;VALUE=DATE-TIME:20220909T194605Z
URL:http://150.164.76.86:8080/cac/agenda/4485217536639764668
END:VEVENT
BEGIN:VTIMEZONE
TZID:America/Sao_Paulo
X-LIC-LOCATION:America/Sao_Paulo
BEGIN:DAYLIGHT
DTSTART;VALUE=DATE-TIME:20221016T010000
TZNAME:BRST
TZOFFSETFROM:-0300
TZOFFSETTO:-0200
END:DAYLIGHT
END:VTIMEZONE
END:VCALENDAR
