BEGIN:VCALENDAR
VERSION:2.0
PRODID:-//Plone.org//NONSGML plone.app.event//EN
X-WR-TIMEZONE:America/Sao_Paulo
BEGIN:VEVENT
SUMMARY:CAPACIDADE EXCEDIDA em [ Auditorio A102 do Cad 2 Auditorio A104 do
  Cad 2]
DTSTART;TZID=America/Sao_Paulo;VALUE=DATE-TIME:20200713T000000
DTEND;TZID=America/Sao_Paulo;VALUE=DATE-TIME:20200717T230000
DTSTAMP;VALUE=DATE-TIME:20260424T210609Z
UID:ab017a27c6c44f90af9403e82e85473a@150.164.76.86:8080
CREATED;VALUE=DATE-TIME:20200206T114421Z
DESCRIPTION:<p>.</p>
LAST-MODIFIED;VALUE=DATE-TIME:20200214T155436Z
URL:http://150.164.76.86:8080/cac/agenda/4484707717368397622
END:VEVENT
BEGIN:VTIMEZONE
TZID:America/Sao_Paulo
X-LIC-LOCATION:America/Sao_Paulo
BEGIN:STANDARD
DTSTART;VALUE=DATE-TIME:20200215T230000
TZNAME:BRT
TZOFFSETFROM:-0200
TZOFFSETTO:-0300
END:STANDARD
END:VTIMEZONE
END:VCALENDAR
