BEGIN:VCALENDAR
VERSION:2.0
PRODID:-//Plone.org//NONSGML plone.app.event//EN
X-WR-TIMEZONE:America/Sao_Paulo
BEGIN:VEVENT
SUMMARY:Reunião de Equipes da Reitora em [ Outros espacos]
DTSTART;TZID=America/Sao_Paulo;VALUE=DATE-TIME:20220513T090000
DTEND;TZID=America/Sao_Paulo;VALUE=DATE-TIME:20220513T170000
DTSTAMP;VALUE=DATE-TIME:20260422T081523Z
UID:c5a6b24fa47d47acbb7308989dfbe062@150.164.76.86:8080
CREATED;VALUE=DATE-TIME:20220504T184715Z
DESCRIPTION:O evento realizar-se-a no auditorio do conservatorio de musica
  da ufmg.
LAST-MODIFIED;VALUE=DATE-TIME:20220504T184942Z
URL:http://150.164.76.86:8080/cac/agenda/4479879760037502733
END:VEVENT
BEGIN:VTIMEZONE
TZID:America/Sao_Paulo
X-LIC-LOCATION:America/Sao_Paulo
BEGIN:STANDARD
DTSTART;VALUE=DATE-TIME:20220219T230000
TZNAME:BRT
TZOFFSETFROM:-0200
TZOFFSETTO:-0300
END:STANDARD
END:VTIMEZONE
END:VCALENDAR
