BEGIN:VCALENDAR
VERSION:2.0
PRODID:-//Plone.org//NONSGML plone.app.event//EN
X-WR-TIMEZONE:America/Sao_Paulo
BEGIN:VEVENT
SUMMARY:Lançamento do formulário de consulta da Política de Comunicaç
 ão da UFMG em [ Auditorio da Reitoria]
DTSTART;TZID=America/Sao_Paulo;VALUE=DATE-TIME:20220628T100000
DTEND;TZID=America/Sao_Paulo;VALUE=DATE-TIME:20220628T113000
DTSTAMP;VALUE=DATE-TIME:20260422T063422Z
UID:6ba0737fe5b14d878d7a06beeef4411f@150.164.76.86:8080
CREATED;VALUE=DATE-TIME:20220608T190655Z
DESCRIPTION:<p>28/06/2022\, 10\, híbrido\, auditório da reitoria e Canal
  CAC Lançamento do formulário de consulta da Política de Comunicação 
 da UFMG Observações: O evento será híbrido com transmissão no canal d
 a CAC. Presença da reitora e do vice-reitor</p>
LAST-MODIFIED;VALUE=DATE-TIME:20220623T144359Z
URL:http://150.164.76.86:8080/cac/agenda/4478636770756323552
END:VEVENT
BEGIN:VTIMEZONE
TZID:America/Sao_Paulo
X-LIC-LOCATION:America/Sao_Paulo
BEGIN:STANDARD
DTSTART;VALUE=DATE-TIME:20220219T230000
TZNAME:BRT
TZOFFSETFROM:-0200
TZOFFSETTO:-0300
END:STANDARD
END:VTIMEZONE
END:VCALENDAR
