BEGIN:VCALENDAR
VERSION:2.0
PRODID:-//Plone.org//NONSGML plone.app.event//EN
X-WR-TIMEZONE:America/Sao_Paulo
BEGIN:VEVENT
SUMMARY:A Inteligência Artificial\, o Ser Humano e a Linguagem em [ Audit
 orio A102 do Cad 2]
DTSTART;TZID=America/Sao_Paulo;VALUE=DATE-TIME:20230926T190000
DTEND;TZID=America/Sao_Paulo;VALUE=DATE-TIME:20230926T213000
DTSTAMP;VALUE=DATE-TIME:20260421T062346Z
UID:0dc02677f3a349d4947f89bbadfc4247@150.164.76.86:8080
CREATED;VALUE=DATE-TIME:20230914T182026Z
DESCRIPTION:<p>O debate discutirá o desenvolvimento acelerado da Intelig
 ência Artificial e sua relação com o ser humano e a linguagem\, com pro
 fessores de áreas do conhecimento que analisarão avanços tecnológicos\
 , questões éticas e implicações para a academia e a área das Humanida
 des. No evento haverá uma discussão com quatro especialistas de diferent
 es áreas do conhecimento. − Prof. Dierle Nunes (Direito\, PUCMINAS) −
  Prof. Kleber Candiotto (Filosofia\, PUCPR) − Prof. Marcelo Buzato (Ling
 uística Aplicada\, Unicamp) − Prof. Virgílio Augusto Fernandes Almeida
  (Ciência da Computação\, UFMG) Equipamentos necessários: - 2 microfon
 es - data show</p>
LAST-MODIFIED;VALUE=DATE-TIME:20230914T182608Z
URL:http://150.164.76.86:8080/cac/agenda/446498353226620360
END:VEVENT
BEGIN:VTIMEZONE
TZID:America/Sao_Paulo
X-LIC-LOCATION:America/Sao_Paulo
BEGIN:STANDARD
DTSTART;VALUE=DATE-TIME:20230225T230000
TZNAME:BRT
TZOFFSETFROM:-0200
TZOFFSETTO:-0300
END:STANDARD
END:VTIMEZONE
END:VCALENDAR
