BEGIN:VCALENDAR
VERSION:2.0
PRODID:-//Plone.org//NONSGML plone.app.event//EN
X-WR-TIMEZONE:America/Sao_Paulo
BEGIN:VEVENT
SUMMARY:UFMG-HUST Summer School on Legal Studies (Aulas) em [ Outros espac
 os]
DTSTART;TZID=America/Sao_Paulo;VALUE=DATE-TIME:20240801T100000
DTEND;TZID=America/Sao_Paulo;VALUE=DATE-TIME:20240802T160000
DTSTAMP;VALUE=DATE-TIME:20260419T205336Z
UID:6846a96f4821467c8785ab62e730ada3@150.164.76.86:8080
CREATED;VALUE=DATE-TIME:20240513T205157Z
DESCRIPTION:<p>Esse evento em si é a UFMG-HUST Summer School on Legal Stu
 dies\, uma parceria da UFMG com a universidade chinesa HUST. O evento ser
 á entre os dias 30/07 e 02/08. Essa reserva se refere as aulas que vão a
 contecer nos dias 31/07\, 01/08 e 02/08\, de manhã no horário de 10h as 
 12h\, e a tarde no horário de 13h30 as 15h30. A infraestrutura necessári
 a será data show para a exibição\, com som\, pois no dia 31 pela manhã
  a palestrante vai estar remotamente. Mais detalhes posso alinhar junto à
  CAC.</p>
LAST-MODIFIED;VALUE=DATE-TIME:20240710T192535Z
URL:http://150.164.76.86:8080/cac/agenda/4464963937453420917
END:VEVENT
BEGIN:VTIMEZONE
TZID:America/Sao_Paulo
X-LIC-LOCATION:America/Sao_Paulo
BEGIN:STANDARD
DTSTART;VALUE=DATE-TIME:20240217T230000
TZNAME:BRT
TZOFFSETFROM:-0200
TZOFFSETTO:-0300
END:STANDARD
END:VTIMEZONE
END:VCALENDAR
