BEGIN:VCALENDAR
VERSION:2.0
PRODID:-//Plone.org//NONSGML plone.app.event//EN
X-WR-TIMEZONE:America/Sao_Paulo
BEGIN:VEVENT
SUMMARY:VII Simpósio Internacional de Linguística Funcional em [ Auditor
 io A102 do Cad 2 Auditorio A104 do Cad 2]
DTSTART;TZID=America/Sao_Paulo;VALUE=DATE-TIME:20240902T080000
DTEND;TZID=America/Sao_Paulo;VALUE=DATE-TIME:20240906T190000
DTSTAMP;VALUE=DATE-TIME:20260419T193226Z
UID:b62e61de45244df2af8184d40186afea@150.164.76.86:8080
CREATED;VALUE=DATE-TIME:20231005T203828Z
DESCRIPTION:<p>O VII Simpósio Internacional de Linguística Funcional (SI
 LF) acontecerá na Faculdade de Letras da Universidade Federal de Minas Ge
 rais\, no período de 4 a 6 de setembro de 2024. O tema desta edição do 
 evento é “Novos direcionamentos para temas clássicos do funcionalismo
 ”. Com isso buscamos reunir pesquisas que discutam a tensão entre tradi
 ção e inovação na pesquisa linguística funcionalista\, de modo a ince
 ntivar não só o estabelecimento de diálogos e interfaces com áreas ain
 da apenas timidamente exploradas por funcionalistas\, mas também de revis
 itar temas que ainda carecem de novas respostas e que\, por meio de novos 
 métodos\, podem ser explorados em novas direções.</p>
LAST-MODIFIED;VALUE=DATE-TIME:20240122T143456Z
URL:http://150.164.76.86:8080/cac/agenda/4416278316959673062
END:VEVENT
BEGIN:VTIMEZONE
TZID:America/Sao_Paulo
X-LIC-LOCATION:America/Sao_Paulo
BEGIN:STANDARD
DTSTART;VALUE=DATE-TIME:20240217T230000
TZNAME:BRT
TZOFFSETFROM:-0200
TZOFFSETTO:-0300
END:STANDARD
END:VTIMEZONE
END:VCALENDAR
