BEGIN:VCALENDAR
VERSION:2.0
PRODID:-//Plone.org//NONSGML plone.app.event//EN
X-WR-TIMEZONE:America/Sao_Paulo
BEGIN:VEVENT
SUMMARY:BANCA DE HETEROIDENTIFICAÇÃO em [ Auditório B101/102 do CAD 3 A
 uditório B106 do CAD3 Auditório B107 do CAD3]
DTSTART;TZID=America/Sao_Paulo;VALUE=DATE-TIME:20250211T070000
DTEND;TZID=America/Sao_Paulo;VALUE=DATE-TIME:20250214T190000
DTSTAMP;VALUE=DATE-TIME:20260419T135025Z
UID:f4a01bd8b31f4954a48904155e164b16@150.164.76.86:8080
CREATED;VALUE=DATE-TIME:20250108T135352Z
DESCRIPTION:Necessária a reserva de todos os auditórios. É a maior cham
 ada do ano\, sendo preciso montar mais de uma banca avaliadora
LAST-MODIFIED;VALUE=DATE-TIME:20250108T143158Z
URL:http://150.164.76.86:8080/cac/agenda/4408768848398535533
END:VEVENT
BEGIN:VTIMEZONE
TZID:America/Sao_Paulo
X-LIC-LOCATION:America/Sao_Paulo
BEGIN:DAYLIGHT
DTSTART;VALUE=DATE-TIME:20241020T010000
TZNAME:BRST
TZOFFSETFROM:-0300
TZOFFSETTO:-0200
END:DAYLIGHT
END:VTIMEZONE
END:VCALENDAR
