BEGIN:VCALENDAR
VERSION:2.0
PRODID:-//Plone.org//NONSGML plone.app.event//EN
X-WR-TIMEZONE:America/Sao_Paulo
BEGIN:VEVENT
SUMMARY:FEIRA DA UFMG - Agroecologia e Economia Popular Solidária em [ En
 torno da Praca de Servicos]
DTSTART;TZID=America/Sao_Paulo;VALUE=DATE-TIME:20240522T070000
DTEND;TZID=America/Sao_Paulo;VALUE=DATE-TIME:20240522T180000
DTSTAMP;VALUE=DATE-TIME:20260420T043311Z
UID:5c81a9451d494b529c6bdce0463f21c6@150.164.76.86:8080
CREATED;VALUE=DATE-TIME:20240202T182058Z
DESCRIPTION:Não usaremos nenhum equipamento ou serviço adicional.\nA pro
 gramação ainda está sendo elaborada.
LAST-MODIFIED;VALUE=DATE-TIME:20240205T191212Z
URL:http://150.164.76.86:8080/cac/agenda/4402217134607559253
END:VEVENT
BEGIN:VTIMEZONE
TZID:America/Sao_Paulo
X-LIC-LOCATION:America/Sao_Paulo
BEGIN:STANDARD
DTSTART;VALUE=DATE-TIME:20240217T230000
TZNAME:BRT
TZOFFSETFROM:-0200
TZOFFSETTO:-0300
END:STANDARD
END:VTIMEZONE
END:VCALENDAR
