BEGIN:VCALENDAR
VERSION:2.0
PRODID:-//Plone.org//NONSGML plone.app.event//EN
X-WR-TIMEZONE:America/Sao_Paulo
BEGIN:VEVENT
SUMMARY:IX ENCONTRO DE PATOLOGIA UFMG em [ Auditorio A102 do Cad 2 Auditor
 io A104 do Cad 2 Outros espacos]
DTSTART;TZID=America/Sao_Paulo;VALUE=DATE-TIME:20240925T073000
DTEND;TZID=America/Sao_Paulo;VALUE=DATE-TIME:20240927T210000
DTSTAMP;VALUE=DATE-TIME:20260419T205358Z
UID:c72a21e5f46741a1a517135a674cbb66@150.164.76.86:8080
CREATED;VALUE=DATE-TIME:20240322T145858Z
DESCRIPTION:<p>O evento contara com palestras\, mesas redondas e apresenta
 ção de posters. Necessario equipamentos de audiovisual (microfone\, comp
 utador e projetores)\, painel\, suporte de banners.</p>
LAST-MODIFIED;VALUE=DATE-TIME:20240401T141010Z
URL:http://150.164.76.86:8080/cac/agenda/439801580514003220
END:VEVENT
BEGIN:VTIMEZONE
TZID:America/Sao_Paulo
X-LIC-LOCATION:America/Sao_Paulo
BEGIN:STANDARD
DTSTART;VALUE=DATE-TIME:20240217T230000
TZNAME:BRT
TZOFFSETFROM:-0200
TZOFFSETTO:-0300
END:STANDARD
END:VTIMEZONE
END:VCALENDAR
