BEGIN:VCALENDAR
VERSION:2.0
PRODID:-//Plone.org//NONSGML plone.app.event//EN
X-WR-TIMEZONE:America/Sao_Paulo
BEGIN:VEVENT
SUMMARY:Abertura das atividades científicas CIIA em [ Outros espacos]
DTSTART;TZID=America/Sao_Paulo;VALUE=DATE-TIME:20221109T150000
DTEND;TZID=America/Sao_Paulo;VALUE=DATE-TIME:20221109T160000
DTSTAMP;VALUE=DATE-TIME:20260421T221608Z
UID:038dfd010d9f48a28598e01580cfce42@150.164.76.86:8080
CREATED;VALUE=DATE-TIME:20221104T153106Z
DESCRIPTION:<p>Acompanhamento técnico audiovisual</p>
LAST-MODIFIED;VALUE=DATE-TIME:20221104T153151Z
URL:http://150.164.76.86:8080/cac/agenda/438642620031356454
END:VEVENT
BEGIN:VTIMEZONE
TZID:America/Sao_Paulo
X-LIC-LOCATION:America/Sao_Paulo
BEGIN:DAYLIGHT
DTSTART;VALUE=DATE-TIME:20221016T010000
TZNAME:BRST
TZOFFSETFROM:-0300
TZOFFSETTO:-0200
END:DAYLIGHT
END:VTIMEZONE
END:VCALENDAR
