BEGIN:VCALENDAR
VERSION:2.0
PRODID:-//Plone.org//NONSGML plone.app.event//EN
X-WR-TIMEZONE:America/Sao_Paulo
BEGIN:VEVENT
SUMMARY:Pré-reserva A angústia na experiência analítica do século XXI
  em [ Auditorio A102 do Cad 2]
DTSTART;TZID=America/Sao_Paulo;VALUE=DATE-TIME:20240621T070000
DTEND;TZID=America/Sao_Paulo;VALUE=DATE-TIME:20240621T200000
DTSTAMP;VALUE=DATE-TIME:20260420T014327Z
UID:01b1bfb183f24f6c87c25f9d23e6b7ed@150.164.76.86:8080
CREATED;VALUE=DATE-TIME:20240617T171355Z
DESCRIPTION:<p>pré-reserva</p>
LAST-MODIFIED;VALUE=DATE-TIME:20240617T171410Z
URL:http://150.164.76.86:8080/cac/agenda/4383563841129869598
END:VEVENT
BEGIN:VTIMEZONE
TZID:America/Sao_Paulo
X-LIC-LOCATION:America/Sao_Paulo
BEGIN:STANDARD
DTSTART;VALUE=DATE-TIME:20240217T230000
TZNAME:BRT
TZOFFSETFROM:-0200
TZOFFSETTO:-0300
END:STANDARD
END:VTIMEZONE
END:VCALENDAR
