BEGIN:VCALENDAR
VERSION:2.0
PRODID:-//Plone.org//NONSGML plone.app.event//EN
X-WR-TIMEZONE:America/Sao_Paulo
BEGIN:VEVENT
SUMMARY:Palestra de abertura do Ciclo IEAT 25 anos - Christian Dunker em [
  Auditorio da Reitoria]
DTSTART;TZID=America/Sao_Paulo;VALUE=DATE-TIME:20240412T140000
DTEND;TZID=America/Sao_Paulo;VALUE=DATE-TIME:20240412T170000
DTSTAMP;VALUE=DATE-TIME:20260420T044633Z
UID:4b0a7bb167a94ca3ab8db615fc108e24@150.164.76.86:8080
CREATED;VALUE=DATE-TIME:20240305T132625Z
DESCRIPTION:<p>Evento de abertura das Comemorações dos 25 anos do IEAT. 
 Conferência de abertura com o conferencista Christian Dunker e professore
 s da UFMG. Previsão para ocorrer entre 14 horas e 17 horas do dia 12 de a
 bril. Então\, solicitamos a reserva do auditório da Reitoria para a part
 ir das 13 horas.</p>
LAST-MODIFIED;VALUE=DATE-TIME:20240306T134216Z
URL:http://150.164.76.86:8080/cac/agenda/4375520971917381852
END:VEVENT
BEGIN:VTIMEZONE
TZID:America/Sao_Paulo
X-LIC-LOCATION:America/Sao_Paulo
BEGIN:STANDARD
DTSTART;VALUE=DATE-TIME:20240217T230000
TZNAME:BRT
TZOFFSETFROM:-0200
TZOFFSETTO:-0300
END:STANDARD
END:VTIMEZONE
END:VCALENDAR
