BEGIN:VCALENDAR
VERSION:2.0
PRODID:-//Plone.org//NONSGML plone.app.event//EN
X-WR-TIMEZONE:America/Sao_Paulo
BEGIN:VEVENT
SUMMARY:Circuito Cultural - Ao Cair da Tarde ( Desmontagem do Espetáculo)
  em [ Auditorio da Reitoria]
DTSTART;TZID=America/Sao_Paulo;VALUE=DATE-TIME:20240823T070000
DTEND;TZID=America/Sao_Paulo;VALUE=DATE-TIME:20240823T160000
DTSTAMP;VALUE=DATE-TIME:20260419T222740Z
UID:e3dcf70d3abe4a4d80e0a171ffa3274e@150.164.76.86:8080
CREATED;VALUE=DATE-TIME:20240802T174523Z
DESCRIPTION:<p>Processo de desmontagem.</p>
LAST-MODIFIED;VALUE=DATE-TIME:20240802T195230Z
URL:http://150.164.76.86:8080/cac/agenda/4375207188312188928
END:VEVENT
BEGIN:VTIMEZONE
TZID:America/Sao_Paulo
X-LIC-LOCATION:America/Sao_Paulo
BEGIN:STANDARD
DTSTART;VALUE=DATE-TIME:20240217T230000
TZNAME:BRT
TZOFFSETFROM:-0200
TZOFFSETTO:-0300
END:STANDARD
END:VTIMEZONE
END:VCALENDAR
