BEGIN:VCALENDAR
VERSION:2.0
PRODID:-//Plone.org//NONSGML plone.app.event//EN
X-WR-TIMEZONE:America/Sao_Paulo
BEGIN:VEVENT
SUMMARY:Feira da UFMG em [ Entorno da Praca de Servicos]
DTSTART;TZID=America/Sao_Paulo;VALUE=DATE-TIME:20230322T060000
DTEND;TZID=America/Sao_Paulo;VALUE=DATE-TIME:20230322T180000
DTSTAMP;VALUE=DATE-TIME:20260421T164143Z
UID:d0364d2c8dcb4f49b175a280cf5695bc@150.164.76.86:8080
CREATED;VALUE=DATE-TIME:20230223T165005Z
DESCRIPTION:Não serão necessários equipamentos ou serviços adicionais.
LAST-MODIFIED;VALUE=DATE-TIME:20230223T171037Z
URL:http://150.164.76.86:8080/cac/agenda/4375085245451219748
END:VEVENT
BEGIN:VTIMEZONE
TZID:America/Sao_Paulo
X-LIC-LOCATION:America/Sao_Paulo
BEGIN:STANDARD
DTSTART;VALUE=DATE-TIME:20230225T230000
TZNAME:BRT
TZOFFSETFROM:-0200
TZOFFSETTO:-0300
END:STANDARD
END:VTIMEZONE
END:VCALENDAR
