BEGIN:VCALENDAR
VERSION:2.0
PRODID:-//Plone.org//NONSGML plone.app.event//EN
X-WR-TIMEZONE:America/Sao_Paulo
BEGIN:VEVENT
SUMMARY:DESINSETIZAÇÃO -  CAD 2 E EDITORA UFMG em [ Auditorio A102 do Ca
 d 2 Auditorio A104 do Cad 2]
DTSTART;TZID=America/Sao_Paulo;VALUE=DATE-TIME:20230805T070000
DTEND;TZID=America/Sao_Paulo;VALUE=DATE-TIME:20230805T190000
DTSTAMP;VALUE=DATE-TIME:20260421T075133Z
UID:2e7aecbc0a104b9fa487578062abc1a2@150.164.76.86:8080
CREATED;VALUE=DATE-TIME:20230613T120818Z
DESCRIPTION:<p>Será realizado  <span>SERVIÇO DE DESINSETIZAÇÃO do co
 mplexo CAD 2- EDITORA UFMG.</span></p>
LAST-MODIFIED;VALUE=DATE-TIME:20230613T134254Z
URL:http://150.164.76.86:8080/cac/agenda/436549019116869103
END:VEVENT
BEGIN:VTIMEZONE
TZID:America/Sao_Paulo
X-LIC-LOCATION:America/Sao_Paulo
BEGIN:STANDARD
DTSTART;VALUE=DATE-TIME:20230225T230000
TZNAME:BRT
TZOFFSETFROM:-0200
TZOFFSETTO:-0300
END:STANDARD
END:VTIMEZONE
END:VCALENDAR
