BEGIN:VCALENDAR
VERSION:2.0
PRODID:-//Plone.org//NONSGML plone.app.event//EN
X-WR-TIMEZONE:America/Sao_Paulo
BEGIN:VEVENT
SUMMARY:44º Mercado das Pulgas em [ Entorno da Praca de Servicos]
DTSTART;TZID=America/Sao_Paulo;VALUE=DATE-TIME:20241202T090000
DTEND;TZID=America/Sao_Paulo;VALUE=DATE-TIME:20241206T170000
DTSTAMP;VALUE=DATE-TIME:20260419T150446Z
UID:deeecfc62b404f5bb121116303c9a5e8@150.164.76.86:8080
CREATED;VALUE=DATE-TIME:20230818T180931Z
DESCRIPTION:90 PAINEIS
LAST-MODIFIED;VALUE=DATE-TIME:20230818T192629Z
URL:http://150.164.76.86:8080/cac/agenda/4348243127303028916
END:VEVENT
BEGIN:VTIMEZONE
TZID:America/Sao_Paulo
X-LIC-LOCATION:America/Sao_Paulo
BEGIN:DAYLIGHT
DTSTART;VALUE=DATE-TIME:20241020T010000
TZNAME:BRST
TZOFFSETFROM:-0300
TZOFFSETTO:-0200
END:DAYLIGHT
END:VTIMEZONE
END:VCALENDAR
