BEGIN:VCALENDAR
VERSION:2.0
PRODID:-//Plone.org//NONSGML plone.app.event//EN
X-WR-TIMEZONE:America/Sao_Paulo
BEGIN:VEVENT
SUMMARY:Reunião Conselho Universitário em [ Outros espacos]
DTSTART;TZID=America/Sao_Paulo;VALUE=DATE-TIME:20240711T140000
DTEND;TZID=America/Sao_Paulo;VALUE=DATE-TIME:20240711T180000
DTSTAMP;VALUE=DATE-TIME:20260419T234707Z
UID:697f520a47a14c50b4db6ec03b35585d@150.164.76.86:8080
CREATED;VALUE=DATE-TIME:20240708T113935Z
DESCRIPTION:<p>Conselho Universitário</p>
LAST-MODIFIED;VALUE=DATE-TIME:20240708T113946Z
URL:http://150.164.76.86:8080/cac/agenda/4345150342107699446
END:VEVENT
BEGIN:VTIMEZONE
TZID:America/Sao_Paulo
X-LIC-LOCATION:America/Sao_Paulo
BEGIN:STANDARD
DTSTART;VALUE=DATE-TIME:20240217T230000
TZNAME:BRT
TZOFFSETFROM:-0200
TZOFFSETTO:-0300
END:STANDARD
END:VTIMEZONE
END:VCALENDAR
