BEGIN:VCALENDAR
VERSION:2.0
PRODID:-//Plone.org//NONSGML plone.app.event//EN
X-WR-TIMEZONE:America/Sao_Paulo
BEGIN:VEVENT
SUMMARY:Reunião do GT LGPD com as Fundações de Apoio em [ Outros espaco
 s]
DTSTART;TZID=America/Sao_Paulo;VALUE=DATE-TIME:20230517T140000
DTEND;TZID=America/Sao_Paulo;VALUE=DATE-TIME:20230517T180000
DTSTAMP;VALUE=DATE-TIME:20260421T133726Z
UID:88051d4bcacc459690904eff7a2a2ebb@150.164.76.86:8080
CREATED;VALUE=DATE-TIME:20230427T195134Z
DESCRIPTION:<p>Projetor\, som\, cabeamento para transmissão. Se possível
 \, café\, agua\, copos e guardanapos.</p>
LAST-MODIFIED;VALUE=DATE-TIME:20230504T182844Z
URL:http://150.164.76.86:8080/cac/agenda/4335729666474018458
END:VEVENT
BEGIN:VTIMEZONE
TZID:America/Sao_Paulo
X-LIC-LOCATION:America/Sao_Paulo
BEGIN:STANDARD
DTSTART;VALUE=DATE-TIME:20230225T230000
TZNAME:BRT
TZOFFSETFROM:-0200
TZOFFSETTO:-0300
END:STANDARD
END:VTIMEZONE
END:VCALENDAR
