BEGIN:VCALENDAR
VERSION:2.0
PRODID:-//Plone.org//NONSGML plone.app.event//EN
X-WR-TIMEZONE:America/Sao_Paulo
BEGIN:VEVENT
SUMMARY:Audiência Popular StockCar em [ Arena da praça de serviços]
DTSTART;TZID=America/Sao_Paulo;VALUE=DATE-TIME:20240409T100000
DTEND;TZID=America/Sao_Paulo;VALUE=DATE-TIME:20240409T130000
DTSTAMP;VALUE=DATE-TIME:20260420T063249Z
UID:65fa601ce58d402e9f0d3e6c6b1419fa@150.164.76.86:8080
CREATED;VALUE=DATE-TIME:20240308T182622Z
DESCRIPTION:Não será necessário nenhum equipamento da CMBH.
LAST-MODIFIED;VALUE=DATE-TIME:20240308T190901Z
URL:http://150.164.76.86:8080/cac/agenda/4325877844506756245
END:VEVENT
BEGIN:VTIMEZONE
TZID:America/Sao_Paulo
X-LIC-LOCATION:America/Sao_Paulo
BEGIN:STANDARD
DTSTART;VALUE=DATE-TIME:20240217T230000
TZNAME:BRT
TZOFFSETFROM:-0200
TZOFFSETTO:-0300
END:STANDARD
END:VTIMEZONE
END:VCALENDAR
