BEGIN:VCALENDAR
VERSION:2.0
PRODID:-//Plone.org//NONSGML plone.app.event//EN
X-WR-TIMEZONE:America/Sao_Paulo
BEGIN:VEVENT
SUMMARY:BANCA DE HETEROIDENTIFICAÇÃO em [ Auditório B106 do CAD3 Audit
 ório B107 do CAD3]
DTSTART;TZID=America/Sao_Paulo;VALUE=DATE-TIME:20250227T070000
DTEND;TZID=America/Sao_Paulo;VALUE=DATE-TIME:20250227T180000
DTSTAMP;VALUE=DATE-TIME:20260419T143408Z
UID:c15c440576ad4cab8549c400ffabc2da@150.164.76.86:8080
CREATED;VALUE=DATE-TIME:20241122T122326Z
DESCRIPTION:<p><span>Realização de Bancas de Heteroidentificação para 
 os Processos Seletivos da EBAP</span></p>
LAST-MODIFIED;VALUE=DATE-TIME:20241122T185553Z
URL:http://150.164.76.86:8080/cac/agenda/4314830854370426521
END:VEVENT
BEGIN:VTIMEZONE
TZID:America/Sao_Paulo
X-LIC-LOCATION:America/Sao_Paulo
BEGIN:STANDARD
DTSTART;VALUE=DATE-TIME:20250215T230000
TZNAME:BRT
TZOFFSETFROM:-0200
TZOFFSETTO:-0300
END:STANDARD
END:VTIMEZONE
END:VCALENDAR
