BEGIN:VCALENDAR
VERSION:2.0
PRODID:-//Plone.org//NONSGML plone.app.event//EN
X-WR-TIMEZONE:America/Sao_Paulo
BEGIN:VEVENT
SUMMARY:Curso BCOP em [ Auditório B101/102 do CAD 3]
DTSTART;TZID=America/Sao_Paulo;VALUE=DATE-TIME:20230918T070000
DTEND;TZID=America/Sao_Paulo;VALUE=DATE-TIME:20230921T200000
DTSTAMP;VALUE=DATE-TIME:20260421T062412Z
UID:2394f4ec379c4007bb6df0046a826182@150.164.76.86:8080
CREATED;VALUE=DATE-TIME:20230823T130225Z
DESCRIPTION:<p>Curso BCOP Objetivo: Tutoriais Público: Técnicos e gerent
 es de empresas e profissionais autônomos dos provedores de Internet. Espa
 ços necessários: Sala em escolar (mesa com cadeira) - Pensamos no audit
 ório do CAD3\, visto que as salas não tem mesas de apoio para os noteboo
 ks Local para o coffee break dos alunos (temos 2 coffee breaks por dia\, s
 endo um de manhã e outro a tarde) - Pensamos naquela área externa do CAD
 3 (cantina) Sala de produção/estoque pequena para guardarmos o material 
 do curso - Pensamos naquelas cabines dentro dos auditórios</p>
LAST-MODIFIED;VALUE=DATE-TIME:20230823T144151Z
URL:http://150.164.76.86:8080/cac/agenda/4313905679901071750
END:VEVENT
BEGIN:VTIMEZONE
TZID:America/Sao_Paulo
X-LIC-LOCATION:America/Sao_Paulo
BEGIN:STANDARD
DTSTART;VALUE=DATE-TIME:20230225T230000
TZNAME:BRT
TZOFFSETFROM:-0200
TZOFFSETTO:-0300
END:STANDARD
END:VTIMEZONE
END:VCALENDAR
