BEGIN:VCALENDAR
VERSION:2.0
PRODID:-//Plone.org//NONSGML plone.app.event//EN
X-WR-TIMEZONE:America/Sao_Paulo
BEGIN:VEVENT
SUMMARY:Projeto Ruptura - ENG200 em [ Outros espacos Auditório B101/102 d
 o CAD 3 Auditório B106 do CAD3 Auditório B107 do CAD3]
DTSTART;TZID=America/Sao_Paulo;VALUE=DATE-TIME:20230831T070000
DTEND;TZID=America/Sao_Paulo;VALUE=DATE-TIME:20230902T210000
DTSTAMP;VALUE=DATE-TIME:20260421T062627Z
UID:0c5ff7269bd94d31b1b79b7c73e6b1a8@150.164.76.86:8080
CREATED;VALUE=DATE-TIME:20230320T150435Z
DESCRIPTION:<p>Projeto Ruptura\, coordenado pelo Prof. Alessandro Fernande
 s Moreira.</p>
LAST-MODIFIED;VALUE=DATE-TIME:20230814T172330Z
URL:http://150.164.76.86:8080/cac/agenda/4312035495300153461
END:VEVENT
BEGIN:VTIMEZONE
TZID:America/Sao_Paulo
X-LIC-LOCATION:America/Sao_Paulo
BEGIN:STANDARD
DTSTART;VALUE=DATE-TIME:20230225T230000
TZNAME:BRT
TZOFFSETFROM:-0200
TZOFFSETTO:-0300
END:STANDARD
END:VTIMEZONE
END:VCALENDAR
