BEGIN:VCALENDAR
VERSION:2.0
PRODID:-//Plone.org//NONSGML plone.app.event//EN
X-WR-TIMEZONE:America/Sao_Paulo
BEGIN:VEVENT
SUMMARY:Inauguração da Farmacia Universitária em [ Outros espacos]
DTSTART;TZID=America/Sao_Paulo;VALUE=DATE-TIME:20241202T180000
DTEND;TZID=America/Sao_Paulo;VALUE=DATE-TIME:20241202T200000
DTSTAMP;VALUE=DATE-TIME:20260419T150133Z
UID:ebd54fe238714eb592e597252823b397@150.164.76.86:8080
CREATED;VALUE=DATE-TIME:20241128T121403Z
DESCRIPTION:<p><span style="text-align: left\; text-decoration-thickness: 
 initial\; text-decoration-style: initial\; text-decoration-color: initial\
 ; float: none\; ">Inauguração da Farmacia Universitária</span> - HC</p>
LAST-MODIFIED;VALUE=DATE-TIME:20241128T121423Z
URL:http://150.164.76.86:8080/cac/agenda/429752867675082945
END:VEVENT
BEGIN:VTIMEZONE
TZID:America/Sao_Paulo
X-LIC-LOCATION:America/Sao_Paulo
BEGIN:DAYLIGHT
DTSTART;VALUE=DATE-TIME:20241020T010000
TZNAME:BRST
TZOFFSETFROM:-0300
TZOFFSETTO:-0200
END:DAYLIGHT
END:VTIMEZONE
END:VCALENDAR
