BEGIN:VCALENDAR
VERSION:2.0
PRODID:-//Plone.org//NONSGML plone.app.event//EN
X-WR-TIMEZONE:America/Sao_Paulo
BEGIN:VEVENT
SUMMARY:Usinas Fotovoltaicas - Desligamento CADs 1 e 3 em [ Auditorio Nobr
 e do CAD 1 Auditorio 1A do CAD 1 Auditorio 2A do CAD 1 Auditório B302 do 
 CAD 3 Auditório B301 do CAD 3]
DTSTART;TZID=America/Sao_Paulo;VALUE=DATE-TIME:20220522T060000
DTEND;TZID=America/Sao_Paulo;VALUE=DATE-TIME:20220522T200000
DTSTAMP;VALUE=DATE-TIME:20260422T081516Z
UID:53bb9347e19e47fea7711acde60fd860@150.164.76.86:8080
CREATED;VALUE=DATE-TIME:20220426T122036Z
DESCRIPTION:<p><span>Estamos finalizando junto à CEMIG a negociação de 
 desligamento dos CADs 1 e 3 no dia 22/05/22\, domingo\, para realização 
 das adequações das respectivas subestações. </span></p>
LAST-MODIFIED;VALUE=DATE-TIME:20230111T201123Z
URL:http://150.164.76.86:8080/cac/agenda/4272565444535648049
END:VEVENT
BEGIN:VTIMEZONE
TZID:America/Sao_Paulo
X-LIC-LOCATION:America/Sao_Paulo
BEGIN:STANDARD
DTSTART;VALUE=DATE-TIME:20220219T230000
TZNAME:BRT
TZOFFSETFROM:-0200
TZOFFSETTO:-0300
END:STANDARD
END:VTIMEZONE
END:VCALENDAR
