BEGIN:VCALENDAR
VERSION:2.0
PRODID:-//Plone.org//NONSGML plone.app.event//EN
X-WR-TIMEZONE:America/Sao_Paulo
BEGIN:VEVENT
SUMMARY:1ª Etapa do Revalida edição 2024/2. em [ Auditorio Nobre do CAD
  1 Auditorio 1A do CAD 1 Auditorio 2A do CAD 1 Auditorio A102 do Cad 2 Aud
 itorio A104 do Cad 2 Auditório B101/102 do CAD 3 Auditório B106 do CAD3 
 Auditório B107 do CAD3 Auditório B301 do CAD 3 Auditório B302 do CAD 3 
 Auditório B306 do CAD3 Outros espacos]
DTSTART;TZID=America/Sao_Paulo;VALUE=DATE-TIME:20240824T080000
DTEND;TZID=America/Sao_Paulo;VALUE=DATE-TIME:20240825T210000
DTSTAMP;VALUE=DATE-TIME:20260419T222004Z
UID:34cb8b5284944362abd6cfa0edeff68a@150.164.76.86:8080
CREATED;VALUE=DATE-TIME:20240701T133217Z
DESCRIPTION:<p><span>1ª Etapa do Revalida edição 2024/2.</span></p>
LAST-MODIFIED;VALUE=DATE-TIME:20240701T133610Z
URL:http://150.164.76.86:8080/cac/agenda/4270731091419472042
END:VEVENT
BEGIN:VTIMEZONE
TZID:America/Sao_Paulo
X-LIC-LOCATION:America/Sao_Paulo
BEGIN:STANDARD
DTSTART;VALUE=DATE-TIME:20240217T230000
TZNAME:BRT
TZOFFSETFROM:-0200
TZOFFSETTO:-0300
END:STANDARD
END:VTIMEZONE
END:VCALENDAR
