BEGIN:VCALENDAR
VERSION:2.0
PRODID:-//Plone.org//NONSGML plone.app.event//EN
X-WR-TIMEZONE:America/Sao_Paulo
BEGIN:VEVENT
SUMMARY:CAPACIDADE EXCEDIDA em [ Saguao da Reitoria Auditorio da Reitoria 
 Gramado da Reitoria Auditorio Nobre do CAD 1 Auditorio 1A do CAD 1 Auditor
 io 2A do CAD 1 Auditorio A102 do Cad 2 Auditorio A104 do Cad 2 Auditório 
 B302 do CAD 3 Auditório B101/102 do CAD 3 Auditório B301 do CAD 3]
DTSTART;TZID=America/Sao_Paulo;VALUE=DATE-TIME:20200408T180000
DTEND;TZID=America/Sao_Paulo;VALUE=DATE-TIME:20200408T230000
DTSTAMP;VALUE=DATE-TIME:20260425T010334Z
UID:523d4ddcbde14906b82a0eedc511be02@150.164.76.86:8080
CREATED;VALUE=DATE-TIME:20200311T163349Z
DESCRIPTION:<p>.</p>
LAST-MODIFIED;VALUE=DATE-TIME:20230111T201108Z
URL:http://150.164.76.86:8080/cac/agenda/421746179859777428
END:VEVENT
BEGIN:VTIMEZONE
TZID:America/Sao_Paulo
X-LIC-LOCATION:America/Sao_Paulo
BEGIN:STANDARD
DTSTART;VALUE=DATE-TIME:20200215T230000
TZNAME:BRT
TZOFFSETFROM:-0200
TZOFFSETTO:-0300
END:STANDARD
END:VTIMEZONE
END:VCALENDAR
