BEGIN:VCALENDAR
VERSION:2.0
PRODID:-//Plone.org//NONSGML plone.app.event//EN
X-WR-TIMEZONE:America/Sao_Paulo
BEGIN:VEVENT
SUMMARY:CURSO DE FORMAÇÃO PARA NOVOS MEMBROS DA COMISSÃO COMPLEMENTAR 
 À AUTODECLARAÇÃO em [ Auditório B107 do CAD3]
DTSTART;TZID=America/Sao_Paulo;VALUE=DATE-TIME:20241111T130000
DTEND;TZID=America/Sao_Paulo;VALUE=DATE-TIME:20241111T190000
DTSTAMP;VALUE=DATE-TIME:20260419T175927Z
UID:dfe42412b6334f368c4c4f415eea212b@150.164.76.86:8080
CREATED;VALUE=DATE-TIME:20241106T141555Z
DESCRIPTION:<p>Etapa obrigatória para inclusão de novos membros na Comis
 são Complementar a Autodeclaração Racial dos Processos Seletivos da UFM
 G\, para o ano de 2025</p>
LAST-MODIFIED;VALUE=DATE-TIME:20241106T165301Z
URL:http://150.164.76.86:8080/cac/agenda/4212311426535036884
END:VEVENT
BEGIN:VTIMEZONE
TZID:America/Sao_Paulo
X-LIC-LOCATION:America/Sao_Paulo
BEGIN:DAYLIGHT
DTSTART;VALUE=DATE-TIME:20241020T010000
TZNAME:BRST
TZOFFSETFROM:-0300
TZOFFSETTO:-0200
END:DAYLIGHT
END:VTIMEZONE
END:VCALENDAR
