BEGIN:VCALENDAR
VERSION:2.0
PRODID:-//Plone.org//NONSGML plone.app.event//EN
X-WR-TIMEZONE:America/Sao_Paulo
BEGIN:VEVENT
SUMMARY:Encontro de despedida dos estudantes internacionais em [ Arena da 
 praça de serviços]
DTSTART;TZID=America/Sao_Paulo;VALUE=DATE-TIME:20240704T160000
DTEND;TZID=America/Sao_Paulo;VALUE=DATE-TIME:20240704T190000
DTSTAMP;VALUE=DATE-TIME:20260419T222752Z
UID:066208eabea84430804e3ee413cb9b9c@150.164.76.86:8080
CREATED;VALUE=DATE-TIME:20240522T132329Z
DESCRIPTION:Encontro de despedida dos estudantes internacionais na praça 
 de serviços.\nSerá necessário uma caixa de som e um microfone.
LAST-MODIFIED;VALUE=DATE-TIME:20240626T175007Z
URL:http://150.164.76.86:8080/cac/agenda/4198453728064000733
END:VEVENT
BEGIN:VTIMEZONE
TZID:America/Sao_Paulo
X-LIC-LOCATION:America/Sao_Paulo
BEGIN:STANDARD
DTSTART;VALUE=DATE-TIME:20240217T230000
TZNAME:BRT
TZOFFSETFROM:-0200
TZOFFSETTO:-0300
END:STANDARD
END:VTIMEZONE
END:VCALENDAR
