BEGIN:VCALENDAR
VERSION:2.0
PRODID:-//Plone.org//NONSGML plone.app.event//EN
X-WR-TIMEZONE:America/Sao_Paulo
BEGIN:VEVENT
SUMMARY:Treinamento para setores de Compras da UFMG em [ Auditorio A104 do
  Cad 2]
DTSTART;TZID=America/Sao_Paulo;VALUE=DATE-TIME:20221025T140000
DTEND;TZID=America/Sao_Paulo;VALUE=DATE-TIME:20221025T180000
DTSTAMP;VALUE=DATE-TIME:20260421T234952Z
UID:a341e55f278b45849953d8fe823d449c@150.164.76.86:8080
CREATED;VALUE=DATE-TIME:20221018T145453Z
DESCRIPTION:Treinamento
LAST-MODIFIED;VALUE=DATE-TIME:20221018T145526Z
URL:http://150.164.76.86:8080/cac/agenda/419275752935628352
END:VEVENT
BEGIN:VTIMEZONE
TZID:America/Sao_Paulo
X-LIC-LOCATION:America/Sao_Paulo
BEGIN:DAYLIGHT
DTSTART;VALUE=DATE-TIME:20221016T010000
TZNAME:BRST
TZOFFSETFROM:-0300
TZOFFSETTO:-0200
END:DAYLIGHT
END:VTIMEZONE
END:VCALENDAR
