BEGIN:VCALENDAR
VERSION:2.0
PRODID:-//Plone.org//NONSGML plone.app.event//EN
X-WR-TIMEZONE:America/Sao_Paulo
BEGIN:VEVENT
SUMMARY:Outorga de título de Professora Emérita em [ Outros espacos]
DTSTART;TZID=America/Sao_Paulo;VALUE=DATE-TIME:20241216T180000
DTEND;TZID=America/Sao_Paulo;VALUE=DATE-TIME:20241216T210000
DTSTAMP;VALUE=DATE-TIME:20260419T163402Z
UID:0794b77c51604dc4abbcb7be79c0ed06@150.164.76.86:8080
CREATED;VALUE=DATE-TIME:20241202T164730Z
DESCRIPTION:<p>Sessão solene da egrégia congregação da Escola de Engen
 haria\, para outorga do título de Professora Emérita à Professora Maria
  José Gazzi Salum</p>
LAST-MODIFIED;VALUE=DATE-TIME:20241202T164741Z
URL:http://150.164.76.86:8080/cac/agenda/4185496126460145567
END:VEVENT
BEGIN:VTIMEZONE
TZID:America/Sao_Paulo
X-LIC-LOCATION:America/Sao_Paulo
BEGIN:DAYLIGHT
DTSTART;VALUE=DATE-TIME:20241020T010000
TZNAME:BRST
TZOFFSETFROM:-0300
TZOFFSETTO:-0200
END:DAYLIGHT
END:VTIMEZONE
END:VCALENDAR
