BEGIN:VCALENDAR
VERSION:2.0
PRODID:-//Plone.org//NONSGML plone.app.event//EN
X-WR-TIMEZONE:America/Sao_Paulo
BEGIN:VEVENT
SUMMARY:Cerimônia de outorga do título de Professora Emérita da Faculda
 de de Letras em [ Outros espacos]
DTSTART;TZID=America/Sao_Paulo;VALUE=DATE-TIME:20220824T173000
DTEND;TZID=America/Sao_Paulo;VALUE=DATE-TIME:20220824T193000
DTSTAMP;VALUE=DATE-TIME:20260422T031903Z
UID:eeb171cdc05c4c7c90950ea197116391@150.164.76.86:8080
CREATED;VALUE=DATE-TIME:20220614T125423Z
DESCRIPTION:<p>Cerimônia de outorga do título de Professora Emérita à 
 Profa. Eunice Pontes.</p>
LAST-MODIFIED;VALUE=DATE-TIME:20220718T124334Z
URL:http://150.164.76.86:8080/cac/agenda/418082345101579966
END:VEVENT
BEGIN:VTIMEZONE
TZID:America/Sao_Paulo
X-LIC-LOCATION:America/Sao_Paulo
BEGIN:STANDARD
DTSTART;VALUE=DATE-TIME:20220219T230000
TZNAME:BRT
TZOFFSETFROM:-0200
TZOFFSETTO:-0300
END:STANDARD
END:VTIMEZONE
END:VCALENDAR
