BEGIN:VCALENDAR
VERSION:2.0
PRODID:-//Plone.org//NONSGML plone.app.event//EN
X-WR-TIMEZONE:America/Sao_Paulo
BEGIN:VEVENT
SUMMARY:Apresentação de espetáculo teatral ao ar livre Teatro à venda.
  Comédias populares. em [ Arena da praça de serviços Outros espacos]
DTSTART;TZID=America/Sao_Paulo;VALUE=DATE-TIME:20231127T130000
DTEND;TZID=America/Sao_Paulo;VALUE=DATE-TIME:20231127T160000
DTSTAMP;VALUE=DATE-TIME:20260420T130335Z
UID:373a967691fb4bb7a1f2b8c4a30800cc@150.164.76.86:8080
CREATED;VALUE=DATE-TIME:20231107T135921Z
DESCRIPTION:Espetáculo teatral para apresentação em espaço aberto\, cu
 jo título é Teatro à venda. Comédias populares. Este espetáculo é re
 sultado de uma disciplina do Curso de graduação em teatro no ano de 2022
 . \nNeste ano de 2023\, ele foi mantido para apresentações institucionai
 s\, em atividades de uma disciplina optativa.\nNo dia 26\, segunda-feira\,
  esta disciplina que mantém ativo o espetáculo\, irá se encerrar e prec
 isamos fazer uma apresentação do espetáculo.\nO trabalho não demanda s
 onorização e nem iluminação. \nNotícia da estreia do espetáculo (apr
 esentado fora da UFMG)\, pode ser visto em:\nhttps://ufmg.br/comunicacao/a
 ssessoria-de-imprensa/release/graduacao-em-teatro-ufmg-apresenta-espetacul
 o-teatro-a-venda-comedias-populares.\nA coordenação do trabalho\, bem co
 mo a direção do espetáculo\, é da professora Bya Braga (Departamento d
 e Artes Cênicas).\nSão 13 estudantes atuando\, sendo 12 da Graduação e
 m Teatro e um da Graduação em Música. \nSão necessárias cadeiras para
  o público\, caso o espetáculo tenha que se apresentar atrás da Praça 
 de Serviços (onde já foi apresentado em evento da PROCULT)\, \nbem como 
 acesso ao camarim da Praça.\nNo caso de apresentação na Praça de Servi
 ços\, é necessário somente o agendamento do espaço\, com acesso ao cam
 arim da Praça.\nA chegada do grupo está prevista para 13h e a apresenta
 ção é proposta para às 14:30.\nO espetáculo tem uma hora de duração
 . \nA desmontagem dos materiais e desocupação do espaço está prevista 
 para até 16h.\nÉ bem vindo o apoio no agendamento de transporte (uma kom
 bi sem banco) da UFMG para levar os materiais de cena do Prédio da Gradua
 ção em Teatro \n(que fica atrás da EBA) até a Praça de Serviços. \nO
 brigada.
LAST-MODIFIED;VALUE=DATE-TIME:20231107T142026Z
URL:http://150.164.76.86:8080/cac/agenda/4174830522974640962
END:VEVENT
BEGIN:VTIMEZONE
TZID:America/Sao_Paulo
X-LIC-LOCATION:America/Sao_Paulo
BEGIN:DAYLIGHT
DTSTART;VALUE=DATE-TIME:20231015T010000
TZNAME:BRST
TZOFFSETFROM:-0300
TZOFFSETTO:-0200
END:DAYLIGHT
END:VTIMEZONE
END:VCALENDAR
