BEGIN:VCALENDAR
VERSION:2.0
PRODID:-//Plone.org//NONSGML plone.app.event//EN
X-WR-TIMEZONE:America/Sao_Paulo
BEGIN:VEVENT
SUMMARY:Live lançamento do Programas PRORH 2025 em [ Auditorio da Reitori
 a Outros espacos]
DTSTART;TZID=America/Sao_Paulo;VALUE=DATE-TIME:20250522T140000
DTEND;TZID=America/Sao_Paulo;VALUE=DATE-TIME:20250522T153000
DTSTAMP;VALUE=DATE-TIME:20260419T091153Z
UID:33d4c16adffb4e9c8b930b85dd9fb041@150.164.76.86:8080
CREATED;VALUE=DATE-TIME:20250509T135549Z
DESCRIPTION:<p>Prezados\, Solicitamos apoio da CAC para realização de Li
 ve de divulgação dos Programas da PRORH para 2025: - Plano de Desenvolvi
 mento de Pessoas 2025\, - Ações de Desenvolvimento já programadas para 
 o ano de 2025\, - PRODIS e PROINEF 2025. Data 22/05/25\, das 14h as 15h30\
 , no Auditorio da COPEVE\, na Unid. Administrativa 3. Nosso plano é compo
 r uma mesa com a Pró-Reitora de RH\, o Diretor do DRH e o Diretor da divi
 são DDP para apresentar os programas. Pedimos a transmissão pública abe
 rta pelo canal da CAC no youtube\, bem como solicitamos o apoio técnico p
 ara montagem e transmissão dessa live. Obrigado</p>
LAST-MODIFIED;VALUE=DATE-TIME:20250515T172631Z
URL:http://150.164.76.86:8080/cac/agenda/4167781800600692819
END:VEVENT
BEGIN:VTIMEZONE
TZID:America/Sao_Paulo
X-LIC-LOCATION:America/Sao_Paulo
BEGIN:STANDARD
DTSTART;VALUE=DATE-TIME:20250215T230000
TZNAME:BRT
TZOFFSETFROM:-0200
TZOFFSETTO:-0300
END:STANDARD
END:VTIMEZONE
END:VCALENDAR
