BEGIN:VCALENDAR
VERSION:2.0
PRODID:-//Plone.org//NONSGML plone.app.event//EN
X-WR-TIMEZONE:America/Sao_Paulo
BEGIN:VEVENT
SUMMARY:Processo Seletivo 2024 da Universidade Federal de Uberlândia em [
  Auditorio A102 do Cad 2 Auditorio A104 do Cad 2]
DTSTART;TZID=America/Sao_Paulo;VALUE=DATE-TIME:20240601T080000
DTEND;TZID=America/Sao_Paulo;VALUE=DATE-TIME:20240602T210000
DTSTAMP;VALUE=DATE-TIME:20260419T235822Z
UID:660cce5601de4c628f8490bba4fc47d2@150.164.76.86:8080
CREATED;VALUE=DATE-TIME:20240429T174828Z
DESCRIPTION:<p><b><span>Processo Seletivo 2024</span></b><b><span> </span
 ></b><b><span>da Universidade Federal de Uberlândia</span></b></p>
LAST-MODIFIED;VALUE=DATE-TIME:20240520T135525Z
URL:http://150.164.76.86:8080/cac/agenda/4154594883478185923
END:VEVENT
BEGIN:VTIMEZONE
TZID:America/Sao_Paulo
X-LIC-LOCATION:America/Sao_Paulo
BEGIN:STANDARD
DTSTART;VALUE=DATE-TIME:20240217T230000
TZNAME:BRT
TZOFFSETFROM:-0200
TZOFFSETTO:-0300
END:STANDARD
END:VTIMEZONE
END:VCALENDAR
