BEGIN:VCALENDAR
VERSION:2.0
PRODID:-//Plone.org//NONSGML plone.app.event//EN
X-WR-TIMEZONE:America/Sao_Paulo
BEGIN:VEVENT
SUMMARY:Mesa de debates sobre educação - Semana da Visibilidade Trans em
  [ Arena da praça de serviços]
DTSTART;TZID=America/Sao_Paulo;VALUE=DATE-TIME:20250121T170000
DTEND;TZID=America/Sao_Paulo;VALUE=DATE-TIME:20250121T210000
DTSTAMP;VALUE=DATE-TIME:20260419T161541Z
UID:9277d513d21f426f8c14e20ef1b517d8@150.164.76.86:8080
CREATED;VALUE=DATE-TIME:20241202T194900Z
DESCRIPTION:O evento fará parte da semana da visibilidade Trans e irá di
 scutir cotas\, permanência estudantil relacionado com uma perspectiva de 
 diversidade de gênero.
LAST-MODIFIED;VALUE=DATE-TIME:20241202T195604Z
URL:http://150.164.76.86:8080/cac/agenda/4148702672461587009
END:VEVENT
BEGIN:VTIMEZONE
TZID:America/Sao_Paulo
X-LIC-LOCATION:America/Sao_Paulo
BEGIN:DAYLIGHT
DTSTART;VALUE=DATE-TIME:20241020T010000
TZNAME:BRST
TZOFFSETFROM:-0300
TZOFFSETTO:-0200
END:DAYLIGHT
END:VTIMEZONE
END:VCALENDAR
